BEGIN:VCALENDAR
VERSION:2.0
PRODID:-//AICC Canada - ECPv6.15.20//NONSGML v1.0//EN
CALSCALE:GREGORIAN
METHOD:PUBLISH
X-WR-CALNAME:AICC Canada
X-ORIGINAL-URL:https://www.aiccbox.ca
X-WR-CALDESC:Events for AICC Canada
REFRESH-INTERVAL;VALUE=DURATION:PT1H
X-Robots-Tag:noindex
X-PUBLISHED-TTL:PT1H
BEGIN:VTIMEZONE
TZID:America/Toronto
BEGIN:DAYLIGHT
TZOFFSETFROM:-0500
TZOFFSETTO:-0400
TZNAME:EDT
DTSTART:20250309T070000
END:DAYLIGHT
BEGIN:STANDARD
TZOFFSETFROM:-0400
TZOFFSETTO:-0500
TZNAME:EST
DTSTART:20251102T060000
END:STANDARD
BEGIN:DAYLIGHT
TZOFFSETFROM:-0500
TZOFFSETTO:-0400
TZNAME:EDT
DTSTART:20260308T070000
END:DAYLIGHT
BEGIN:STANDARD
TZOFFSETFROM:-0400
TZOFFSETTO:-0500
TZNAME:EST
DTSTART:20261101T060000
END:STANDARD
BEGIN:DAYLIGHT
TZOFFSETFROM:-0500
TZOFFSETTO:-0400
TZNAME:EDT
DTSTART:20270314T070000
END:DAYLIGHT
BEGIN:STANDARD
TZOFFSETFROM:-0400
TZOFFSETTO:-0500
TZNAME:EST
DTSTART:20271107T060000
END:STANDARD
END:VTIMEZONE
BEGIN:VEVENT
DTSTART;TZID=America/Toronto:20260610T123000
DTEND;TZID=America/Toronto:20260610T200000
DTSTAMP:20260424T153729
CREATED:20260113T130416Z
LAST-MODIFIED:20260424T175428Z
UID:3773-1781094600-1781121600@www.aiccbox.ca
SUMMARY:19th Annual 2026 AICC Canada / CCCA Golf Tournament
DESCRIPTION:Registration and BBQ lunch at 12:30 PM. Shotgun start at 1:30 PM.\nCocktail hour and dinner to follow.
URL:https://www.aiccbox.ca/event/2026-annual-aicc-canada-ccca-golf-tournament/
LOCATION:Lionhead Golf Club & Conference Centre\, 8525 Mississauga Rd\, Brampton\, ON\, L6Y 0C1\, Canada
END:VEVENT
END:VCALENDAR